BEGIN:VCALENDAR
PRODID:-//AT Content Types//AT Event//EN
VERSION:1.0
BEGIN:VEVENT
DTSTART:20071015T190000Z
DTEND:20071015T215500Z
DCREATED:20071013T175200Z
UID:ATEvent-c03ba4e9f404e8bdcfcd6a0a44628cb3
SEQUENCE:0
LAST-MODIFIED:20071013T175336Z
SUMMARY:Fest-Noz d'Argenteuil
LOCATION:Argenteuil
PRIORITY:3
TRANSP:0
END:VEVENT
END:VCALENDAR
